BEGIN:VCALENDAR
VERSION:2.0
PRODID:DPCALENDAR
CALSCALE:GREGORIAN
BEGIN:VTIMEZONE
TZID:Europe/Prague
X-MICROSOFT-CDO-TZID:6
BEGIN:STANDARD
DTSTART:20251026T010000
TZOFFSETFROM:+0200
TZOFFSETTO:+0100
TZNAME:CET
END:STANDARD
BEGIN:STANDARD
DTSTART:20261025T010000
TZOFFSETFROM:+0200
TZOFFSETTO:+0100
TZNAME:CET
END:STANDARD
BEGIN:DAYLIGHT
DTSTART:20260329T010000
TZOFFSETFROM:+0100
TZOFFSETTO:+0200
TZNAME:CEST
END:DAYLIGHT
END:VTIMEZONE
X-WR-TIMEZONE:Europe/Prague
BEGIN:VEVENT
DTSTART;TZID=Europe/Prague:20200408T090000
DTEND;TZID=Europe/Prague:20200408T094500
RRULE:FREQ=WEEKLY;BYDAY=WE,FR;INTERVAL=1;UNTIL=20200630T235900Z
UID:10C04824-7624-49AE-96CC-88CCCEB60212
SUMMARY:Matematika
DTSTAMP:20200403T200428Z
DESCRIPTION:
X-ALT-DESC;FMTTYPE=text/html:
LAST-MODIFIED:20200403T200517Z
X-ACCESS:1
X-HITS:0
X-URL:https://meet.google.com/ubz-dtyj-okp
X-COLOR:3366cc
X-SHOW-END-TIME:1
END:VEVENT
END:VCALENDAR