BEGIN:VCALENDAR
VERSION:2.0
PRODID:DPCALENDAR
CALSCALE:GREGORIAN
BEGIN:VTIMEZONE
TZID:Europe/Prague
X-MICROSOFT-CDO-TZID:6
BEGIN:STANDARD
DTSTART:20251026T010000
TZOFFSETFROM:+0200
TZOFFSETTO:+0100
TZNAME:CET
END:STANDARD
BEGIN:STANDARD
DTSTART:20261025T010000
TZOFFSETFROM:+0200
TZOFFSETTO:+0100
TZNAME:CET
END:STANDARD
BEGIN:DAYLIGHT
DTSTART:20260329T010000
TZOFFSETFROM:+0100
TZOFFSETTO:+0200
TZNAME:CEST
END:DAYLIGHT
END:VTIMEZONE
X-WR-TIMEZONE:Europe/Prague
BEGIN:VEVENT
DTSTART;TZID=Europe/Prague:20160901T133000
DTEND;TZID=Europe/Prague:20160901T153000
UID:DCF0B5E1-03F3-41A3-A530-A6A5F3748E83
SUMMARY:Zahájení činnosti školní jídelny
DTSTAMP:20160828T080330Z
DESCRIPTION:Školní jídelna bude v provozu od čtvrtku 1. září 2016, obědy budou vydávány od 11:15 do 13:45.
X-ALT-DESC;FMTTYPE=text/html:<p><strong>Školní jídelna</strong> bude v provozu od čtvrtku 1. září 2016, obědy budou vydávány od 11:15 do 13:45.</p>
LAST-MODIFIED:20160828T081239Z
X-ACCESS:1
X-HITS:0
X-URL:
X-COLOR:CCBA47
X-SHOW-END-TIME:1
END:VEVENT
END:VCALENDAR